BEGIN:VCALENDAR
VERSION:2.0
PRODID:-//Riechaa Parashar - ECPv6.15.20//NONSGML v1.0//EN
CALSCALE:GREGORIAN
METHOD:PUBLISH
X-ORIGINAL-URL:https://riechaaparashar.com
X-WR-CALDESC:Events for Riechaa Parashar
REFRESH-INTERVAL;VALUE=DURATION:PT1H
X-Robots-Tag:noindex
X-PUBLISHED-TTL:PT1H
BEGIN:VTIMEZONE
TZID:UTC
BEGIN:STANDARD
TZOFFSETFROM:+0000
TZOFFSETTO:+0000
TZNAME:UTC
DTSTART:20210101T000000
END:STANDARD
END:VTIMEZONE
BEGIN:VTIMEZONE
TZID:Asia/Kolkata
BEGIN:STANDARD
TZOFFSETFROM:+0530
TZOFFSETTO:+0530
TZNAME:IST
DTSTART:20210101T000000
END:STANDARD
END:VTIMEZONE
BEGIN:VEVENT
DTSTART;TZID=UTC:20230204T200000
DTEND;TZID=UTC:20230206T210000
DTSTAMP:20260422T134324
CREATED:20230120T131407Z
LAST-MODIFIED:20230120T132252Z
UID:10517-1675540800-1675717200@riechaaparashar.com
SUMMARY:Heal Your Anger Course
DESCRIPTION:
URL:https://riechaaparashar.com/event/heal-your-anger-course-2/
CATEGORIES:Calender
END:VEVENT
BEGIN:VEVENT
DTSTART;TZID=Asia/Kolkata:20230130T053000
DTEND;TZID=Asia/Kolkata:20230203T060000
DTSTAMP:20260422T134324
CREATED:20221228T134717Z
LAST-MODIFIED:20221228T134717Z
UID:9998-1675056600-1675404000@riechaaparashar.com
SUMMARY:Daily Meditation
DESCRIPTION:Join us every day to connect with the divine within you and have the opportunity to have a small wish fulfilled!
URL:https://riechaaparashar.com/event/daily-meditation-11/
END:VEVENT
BEGIN:VEVENT
DTSTART;TZID=UTC:20230128T200000
DTEND;TZID=UTC:20230130T210000
DTSTAMP:20260422T134324
CREATED:20230120T131253Z
LAST-MODIFIED:20230120T132300Z
UID:10515-1674936000-1675112400@riechaaparashar.com
SUMMARY:Heal Your Anger Course
DESCRIPTION:
URL:https://riechaaparashar.com/event/heal-your-anger-course/
CATEGORIES:Calender
END:VEVENT
BEGIN:VEVENT
DTSTART;TZID=UTC:20230126T220000
DTEND;TZID=UTC:20230127T230000
DTSTAMP:20260422T134324
CREATED:20230120T131152Z
LAST-MODIFIED:20230120T132311Z
UID:10513-1674770400-1674860400@riechaaparashar.com
SUMMARY:Yoga Nidra
DESCRIPTION:
URL:https://riechaaparashar.com/event/yoga-nidra/
CATEGORIES:Calender
END:VEVENT
BEGIN:VEVENT
DTSTART;TZID=Asia/Kolkata:20230123T053000
DTEND;TZID=Asia/Kolkata:20230127T060000
DTSTAMP:20260422T134324
CREATED:20221228T130530Z
LAST-MODIFIED:20221228T130530Z
UID:9982-1674451800-1674799200@riechaaparashar.com
SUMMARY:Daily Meditation
DESCRIPTION:Join us every day to connect with the divine within you and have the opportunity to have a small wish fulfilled!
URL:https://riechaaparashar.com/event/daily-meditation-9/
END:VEVENT
BEGIN:VEVENT
DTSTART;TZID=UTC:20230121T060000
DTEND;TZID=UTC:20230123T070000
DTSTAMP:20260422T134324
CREATED:20230120T131018Z
LAST-MODIFIED:20230120T132438Z
UID:10511-1674280800-1674457200@riechaaparashar.com
SUMMARY:Money Magnet
DESCRIPTION:
URL:https://riechaaparashar.com/event/money-magnet-2/
CATEGORIES:Calender
END:VEVENT
BEGIN:VEVENT
DTSTART;TZID=Asia/Kolkata:20230120T210000
DTEND;TZID=Asia/Kolkata:20230120T213000
DTSTAMP:20260422T134324
CREATED:20230106T151134Z
LAST-MODIFIED:20230106T151134Z
UID:10052-1674248400-1674250200@riechaaparashar.com
SUMMARY:Masik Shivratri Celebrations
DESCRIPTION:
URL:https://riechaaparashar.com/event/masik-shivratri-celebrations/
CATEGORIES:Calender
END:VEVENT
BEGIN:VEVENT
DTSTART;TZID=Asia/Kolkata:20230116T053000
DTEND;TZID=Asia/Kolkata:20230120T060000
DTSTAMP:20260422T134324
CREATED:20221228T130359Z
LAST-MODIFIED:20221228T130359Z
UID:9975-1673847000-1674194400@riechaaparashar.com
SUMMARY:Daily Meditation
DESCRIPTION:Join us every day to connect with the divine within you and have the opportunity to have a small wish fulfilled!
URL:https://riechaaparashar.com/event/daily-meditation-8/
END:VEVENT
BEGIN:VEVENT
DTSTART;TZID=Asia/Kolkata:20230109T053000
DTEND;TZID=Asia/Kolkata:20230113T060000
DTSTAMP:20260422T134324
CREATED:20221130T171254Z
LAST-MODIFIED:20221130T171254Z
UID:9355-1673242200-1673589600@riechaaparashar.com
SUMMARY:Daily Meditation
DESCRIPTION:Join us every day to connect with the divine within you and have the opportunity to have a small wish fulfilled!
URL:https://riechaaparashar.com/event/daily-meditation-7/
END:VEVENT
BEGIN:VEVENT
DTSTART;TZID=Asia/Kolkata:20230106T210000
DTEND;TZID=Asia/Kolkata:20230106T213000
DTSTAMP:20260422T134324
CREATED:20230104T161549Z
LAST-MODIFIED:20230104T161549Z
UID:10010-1673038800-1673040600@riechaaparashar.com
SUMMARY:Purnima Meditation - Paush Purnima
DESCRIPTION:
URL:https://riechaaparashar.com/event/purnima-meditation-paush-purnima/
CATEGORIES:Calender
END:VEVENT
BEGIN:VEVENT
DTSTART;TZID=Asia/Kolkata:20230102T053000
DTEND;TZID=Asia/Kolkata:20230106T060000
DTSTAMP:20260422T134324
CREATED:20221130T160406Z
LAST-MODIFIED:20221130T160406Z
UID:9267-1672637400-1672984800@riechaaparashar.com
SUMMARY:Daily Meditation
DESCRIPTION:Join us every day to connect with the divine within you and have the opportunity to have a small wish fulfilled!
URL:https://riechaaparashar.com/event/daily-meditation-6/
END:VEVENT
BEGIN:VEVENT
DTSTART;TZID=Asia/Kolkata:20221226T053000
DTEND;TZID=Asia/Kolkata:20221230T060000
DTSTAMP:20260422T134324
CREATED:20221130T134223Z
LAST-MODIFIED:20221130T134223Z
UID:9265-1672032600-1672380000@riechaaparashar.com
SUMMARY:Daily Meditation
DESCRIPTION:Join us every day to connect with the divine within you and have the opportunity to have a small wish fulfilled!
URL:https://riechaaparashar.com/event/daily-meditation-5/
END:VEVENT
BEGIN:VEVENT
DTSTART;TZID=Asia/Kolkata:20221219T053000
DTEND;TZID=Asia/Kolkata:20221223T060000
DTSTAMP:20260422T134324
CREATED:20221130T133344Z
LAST-MODIFIED:20221130T134356Z
UID:9263-1671427800-1671775200@riechaaparashar.com
SUMMARY:Daily Meditation
DESCRIPTION:Join us every day to connect with the divine within you and have the opportunity to have a small wish fulfilled!
URL:https://riechaaparashar.com/event/daily-meditation-4/
END:VEVENT
BEGIN:VEVENT
DTSTART;TZID=Asia/Kolkata:20221216T060000
DTEND;TZID=Asia/Kolkata:20221230T070000
DTSTAMP:20260422T134324
CREATED:20221129T180215Z
LAST-MODIFIED:20221130T130926Z
UID:9246-1671170400-1672383600@riechaaparashar.com
SUMMARY:Ancestors DNA Healing
DESCRIPTION:Experience freedom from past patterns and help free the souls of your ancestors.
URL:https://riechaaparashar.com/event/ancestors-dna-healing/
CATEGORIES:Calender
END:VEVENT
BEGIN:VEVENT
DTSTART;TZID=Asia/Kolkata:20221212T053000
DTEND;TZID=Asia/Kolkata:20221216T060000
DTSTAMP:20260422T134324
CREATED:20221130T132746Z
LAST-MODIFIED:20221130T134341Z
UID:9261-1670823000-1671170400@riechaaparashar.com
SUMMARY:Daily Meditation
DESCRIPTION:Join us every day to connect with the divine within you and have the opportunity to have a small wish fulfilled!
URL:https://riechaaparashar.com/event/daily-meditation-3/
END:VEVENT
BEGIN:VEVENT
DTSTART;TZID=UTC:20221209T060000
DTEND;TZID=UTC:20221211T070000
DTSTAMP:20260422T134324
CREATED:20221129T180018Z
LAST-MODIFIED:20221130T125436Z
UID:9237-1670565600-1670742000@riechaaparashar.com
SUMMARY:Money Magnet
DESCRIPTION:Learn ways to attract wealth\, clear bad debt\, and gain financial freedom.
URL:https://riechaaparashar.com/event/money-magnet/
CATEGORIES:Calender
END:VEVENT
BEGIN:VEVENT
DTSTART;TZID=Asia/Kolkata:20221205T053000
DTEND;TZID=Asia/Kolkata:20221209T060000
DTSTAMP:20260422T134324
CREATED:20221130T132622Z
LAST-MODIFIED:20221130T134336Z
UID:9259-1670218200-1670565600@riechaaparashar.com
SUMMARY:Daily Meditation
DESCRIPTION:Join us every day to connect with the divine within you and have the opportunity to have a small wish fulfilled!
URL:https://riechaaparashar.com/event/daily-meditation-2/
END:VEVENT
BEGIN:VEVENT
DTSTART;TZID=Asia/Kolkata:20221128T060000
DTEND;TZID=Asia/Kolkata:20221202T063000
DTSTAMP:20260422T134324
CREATED:20221130T132406Z
LAST-MODIFIED:20230130T125050Z
UID:9256-1669615200-1669962600@riechaaparashar.com
SUMMARY:Daily Meditation
DESCRIPTION:Join us every day to connect with the divine within you and have the opportunity to have a small wish fulfilled!
URL:https://riechaaparashar.com/event/daily-meditation/
END:VEVENT
END:VCALENDAR