BEGIN:VCALENDAR
VERSION:2.0
PRODID:-//Riechaa Parashar - ECPv6.15.20//NONSGML v1.0//EN
CALSCALE:GREGORIAN
METHOD:PUBLISH
X-ORIGINAL-URL:https://riechaaparashar.com
X-WR-CALDESC:Events for Riechaa Parashar
REFRESH-INTERVAL;VALUE=DURATION:PT1H
X-Robots-Tag:noindex
X-PUBLISHED-TTL:PT1H
BEGIN:VTIMEZONE
TZID:UTC
BEGIN:STANDARD
TZOFFSETFROM:+0000
TZOFFSETTO:+0000
TZNAME:UTC
DTSTART:20220101T000000
END:STANDARD
END:VTIMEZONE
BEGIN:VTIMEZONE
TZID:Asia/Kolkata
BEGIN:STANDARD
TZOFFSETFROM:+0530
TZOFFSETTO:+0530
TZNAME:IST
DTSTART:20220101T000000
END:STANDARD
END:VTIMEZONE
BEGIN:VEVENT
DTSTART;TZID=UTC:20230727T220000
DTEND;TZID=UTC:20230728T230000
DTSTAMP:20260420T072013
CREATED:20230129T151514Z
LAST-MODIFIED:20230131T160553Z
UID:10989-1690495200-1690585200@riechaaparashar.com
SUMMARY:Yoga Nidra
DESCRIPTION:
URL:https://riechaaparashar.com/event/yoga-nidra-7/
CATEGORIES:Calender
END:VEVENT
BEGIN:VEVENT
DTSTART;TZID=Asia/Kolkata:20230722T060000
DTEND;TZID=Asia/Kolkata:20230724T070000
DTSTAMP:20260420T072013
CREATED:20230129T151426Z
LAST-MODIFIED:20230129T151426Z
UID:10987-1690005600-1690182000@riechaaparashar.com
SUMMARY:Women's Special
DESCRIPTION:
URL:https://riechaaparashar.com/event/womens-special-5/
CATEGORIES:Calender
END:VEVENT
BEGIN:VEVENT
DTSTART;TZID=Asia/Kolkata:20230715T210000
DTEND;TZID=Asia/Kolkata:20230715T213000
DTSTAMP:20260420T072013
CREATED:20230106T151842Z
LAST-MODIFIED:20230106T151842Z
UID:10064-1689454800-1689456600@riechaaparashar.com
SUMMARY:Masik Shivratri Celebrations
DESCRIPTION:
URL:https://riechaaparashar.com/event/masik-shivratri-celebrations-7/
CATEGORIES:Calender
END:VEVENT
BEGIN:VEVENT
DTSTART;TZID=Asia/Kolkata:20230715T060000
DTEND;TZID=Asia/Kolkata:20230717T070000
DTSTAMP:20260420T072013
CREATED:20230129T151326Z
LAST-MODIFIED:20230129T151326Z
UID:10985-1689400800-1689577200@riechaaparashar.com
SUMMARY:Heal Your Heart Meditation Course
DESCRIPTION:
URL:https://riechaaparashar.com/event/heal-your-heart-meditation-course-5/
CATEGORIES:Calender
END:VEVENT
BEGIN:VEVENT
DTSTART;TZID=Asia/Kolkata:20230708T060000
DTEND;TZID=Asia/Kolkata:20230710T070000
DTSTAMP:20260420T072013
CREATED:20230129T151220Z
LAST-MODIFIED:20230129T151220Z
UID:10983-1688796000-1688972400@riechaaparashar.com
SUMMARY:Money Magnet
DESCRIPTION:
URL:https://riechaaparashar.com/event/money-magnet-7/
CATEGORIES:Calender
END:VEVENT
BEGIN:VEVENT
DTSTART;TZID=Asia/Kolkata:20230703T210000
DTEND;TZID=Asia/Kolkata:20230703T213000
DTSTAMP:20260420T072013
CREATED:20230104T161838Z
LAST-MODIFIED:20230104T162321Z
UID:10014-1688418000-1688419800@riechaaparashar.com
SUMMARY:Purnima Meditation - Ashadha Purnima
DESCRIPTION:
URL:https://riechaaparashar.com/event/purnima-meditation-magha-purnima/
CATEGORIES:Calender
END:VEVENT
BEGIN:VEVENT
DTSTART;TZID=Asia/Kolkata:20230701T200000
DTEND;TZID=Asia/Kolkata:20230703T210000
DTSTAMP:20260420T072013
CREATED:20230129T151110Z
LAST-MODIFIED:20230129T151110Z
UID:10981-1688241600-1688418000@riechaaparashar.com
SUMMARY:Heal Your Anger Meditation
DESCRIPTION:
URL:https://riechaaparashar.com/event/heal-your-anger-meditation-2/
CATEGORIES:Calender
END:VEVENT
BEGIN:VEVENT
DTSTART;TZID=Asia/Kolkata:20230629T220000
DTEND;TZID=Asia/Kolkata:20230630T230000
DTSTAMP:20260420T072013
CREATED:20230120T142417Z
LAST-MODIFIED:20230120T142434Z
UID:10580-1688076000-1688166000@riechaaparashar.com
SUMMARY:Yoga Nidra
DESCRIPTION:
URL:https://riechaaparashar.com/event/yoga-nidra-6/
CATEGORIES:Calender
END:VEVENT
BEGIN:VEVENT
DTSTART;TZID=Asia/Kolkata:20230624T060000
DTEND;TZID=Asia/Kolkata:20230626T070000
DTSTAMP:20260420T072013
CREATED:20230120T141438Z
LAST-MODIFIED:20230120T142332Z
UID:10577-1687586400-1687762800@riechaaparashar.com
SUMMARY:Women's Special
DESCRIPTION:
URL:https://riechaaparashar.com/event/heal-your-heart-meditation-course-4/
CATEGORIES:Calender
END:VEVENT
BEGIN:VEVENT
DTSTART;TZID=Asia/Kolkata:20230616T210000
DTEND;TZID=Asia/Kolkata:20230616T213000
DTSTAMP:20260420T072013
CREATED:20230106T151649Z
LAST-MODIFIED:20230106T151649Z
UID:10062-1686949200-1686951000@riechaaparashar.com
SUMMARY:Masik Shivratri Celebrations
DESCRIPTION:
URL:https://riechaaparashar.com/event/masik-shivratri-celebrations-6/
CATEGORIES:Calender
END:VEVENT
BEGIN:VEVENT
DTSTART;TZID=Asia/Kolkata:20230610T060000
DTEND;TZID=Asia/Kolkata:20230612T070000
DTSTAMP:20260420T072013
CREATED:20230120T140128Z
LAST-MODIFIED:20230120T141346Z
UID:10575-1686376800-1686553200@riechaaparashar.com
SUMMARY:Money Magnet
DESCRIPTION:
URL:https://riechaaparashar.com/event/money-magnet-6/
CATEGORIES:Calender
END:VEVENT
BEGIN:VEVENT
DTSTART;TZID=Asia/Kolkata:20230604T210000
DTEND;TZID=Asia/Kolkata:20230604T213000
DTSTAMP:20260420T072013
CREATED:20230104T162859Z
LAST-MODIFIED:20230104T162859Z
UID:10030-1685912400-1685914200@riechaaparashar.com
SUMMARY:Purnima Meditation - Jyeshta Purnima
DESCRIPTION:
URL:https://riechaaparashar.com/event/purnima-meditation-jyeshta-purnima/
CATEGORIES:Calender
END:VEVENT
BEGIN:VEVENT
DTSTART;TZID=Asia/Kolkata:20230603T200000
DTEND;TZID=Asia/Kolkata:20230605T210000
DTSTAMP:20260420T072013
CREATED:20230120T140033Z
LAST-MODIFIED:20230120T140033Z
UID:10573-1685822400-1685998800@riechaaparashar.com
SUMMARY:Heal Your Anger Meditation Course
DESCRIPTION:
URL:https://riechaaparashar.com/event/heal-your-anger-meditation-course-3/
CATEGORIES:Calender
END:VEVENT
BEGIN:VEVENT
DTSTART;TZID=Asia/Kolkata:20230527T060000
DTEND;TZID=Asia/Kolkata:20230529T070000
DTSTAMP:20260420T072013
CREATED:20230120T135903Z
LAST-MODIFIED:20230120T135922Z
UID:10571-1685167200-1685343600@riechaaparashar.com
SUMMARY:Women's Special
DESCRIPTION:
URL:https://riechaaparashar.com/event/womens-special-4/
CATEGORIES:Calender
END:VEVENT
BEGIN:VEVENT
DTSTART;TZID=UTC:20230525T220000
DTEND;TZID=UTC:20230526T230000
DTSTAMP:20260420T072013
CREATED:20230120T135729Z
LAST-MODIFIED:20230120T135802Z
UID:10569-1685052000-1685142000@riechaaparashar.com
SUMMARY:Yoga Nidra
DESCRIPTION:
URL:https://riechaaparashar.com/event/yoga-nidra-5/
CATEGORIES:Calender
END:VEVENT
BEGIN:VEVENT
DTSTART;TZID=UTC:20230520T060000
DTEND;TZID=UTC:20230522T070000
DTSTAMP:20260420T072013
CREATED:20230120T135639Z
LAST-MODIFIED:20230120T135639Z
UID:10567-1684562400-1684738800@riechaaparashar.com
SUMMARY:Heal Your Heart Meditation Course
DESCRIPTION:
URL:https://riechaaparashar.com/event/heal-your-heart-meditation-course-3/
CATEGORIES:Calender
END:VEVENT
BEGIN:VEVENT
DTSTART;TZID=Asia/Kolkata:20230517T210000
DTEND;TZID=Asia/Kolkata:20230517T213000
DTSTAMP:20260420T072013
CREATED:20230106T151553Z
LAST-MODIFIED:20230106T151553Z
UID:10060-1684357200-1684359000@riechaaparashar.com
SUMMARY:Masik Shivratri Celebrations
DESCRIPTION:
URL:https://riechaaparashar.com/event/masik-shivratri-celebrations-5/
CATEGORIES:Calender
END:VEVENT
BEGIN:VEVENT
DTSTART;TZID=UTC:20230513T060000
DTEND;TZID=UTC:20230515T070000
DTSTAMP:20260420T072013
CREATED:20230120T135541Z
LAST-MODIFIED:20230120T135541Z
UID:10565-1683957600-1684134000@riechaaparashar.com
SUMMARY:Money Magnet
DESCRIPTION:
URL:https://riechaaparashar.com/event/money-magnet-5/
CATEGORIES:Calender
END:VEVENT
BEGIN:VEVENT
DTSTART;TZID=UTC:20230506T200000
DTEND;TZID=UTC:20230508T210000
DTSTAMP:20260420T072013
CREATED:20230120T135112Z
LAST-MODIFIED:20230120T135112Z
UID:10562-1683403200-1683579600@riechaaparashar.com
SUMMARY:Heal Your Anger Meditation Course
DESCRIPTION:
URL:https://riechaaparashar.com/event/heal-your-anger-meditation-course-2/
CATEGORIES:Calender
END:VEVENT
BEGIN:VEVENT
DTSTART;TZID=Asia/Kolkata:20230505T210000
DTEND;TZID=Asia/Kolkata:20230505T213000
DTSTAMP:20260420T072013
CREATED:20230104T162809Z
LAST-MODIFIED:20230104T162809Z
UID:10028-1683320400-1683322200@riechaaparashar.com
SUMMARY:Purnima Meditation - Vaisakha Purnima
DESCRIPTION:
URL:https://riechaaparashar.com/event/purnima-meditation-vaisakha-purnima/
CATEGORIES:Calender
END:VEVENT
BEGIN:VEVENT
DTSTART;TZID=UTC:20230427T220000
DTEND;TZID=UTC:20230428T230000
DTSTAMP:20260420T072013
CREATED:20230120T134945Z
LAST-MODIFIED:20230120T134945Z
UID:10557-1682632800-1682722800@riechaaparashar.com
SUMMARY:Yoga Nidra
DESCRIPTION:
URL:https://riechaaparashar.com/event/yoga-nidra-4/
CATEGORIES:Calender
END:VEVENT
BEGIN:VEVENT
DTSTART;TZID=UTC:20230422T060000
DTEND;TZID=UTC:20230424T070000
DTSTAMP:20260420T072013
CREATED:20230120T134444Z
LAST-MODIFIED:20230120T134444Z
UID:10546-1682143200-1682319600@riechaaparashar.com
SUMMARY:Women's Special
DESCRIPTION:
URL:https://riechaaparashar.com/event/womens-special-3/
CATEGORIES:Calender
END:VEVENT
BEGIN:VEVENT
DTSTART;TZID=Asia/Kolkata:20230418T210000
DTEND;TZID=Asia/Kolkata:20230418T213000
DTSTAMP:20260420T072013
CREATED:20230106T151448Z
LAST-MODIFIED:20230106T151448Z
UID:10058-1681851600-1681853400@riechaaparashar.com
SUMMARY:Masik Shivratri Celebrations
DESCRIPTION:
URL:https://riechaaparashar.com/event/masik-shivratri-celebrations-4/
CATEGORIES:Calender
END:VEVENT
BEGIN:VEVENT
DTSTART;TZID=UTC:20230415T060000
DTEND;TZID=UTC:20230417T070000
DTSTAMP:20260420T072013
CREATED:20230120T133802Z
LAST-MODIFIED:20230120T133802Z
UID:10543-1681538400-1681714800@riechaaparashar.com
SUMMARY:Heal Your Heart Meditation Course
DESCRIPTION:
URL:https://riechaaparashar.com/event/heal-your-heart-meditation-course-2/
CATEGORIES:Calender
END:VEVENT
BEGIN:VEVENT
DTSTART;TZID=UTC:20230408T060000
DTEND;TZID=UTC:20230410T070000
DTSTAMP:20260420T072013
CREATED:20230120T133650Z
LAST-MODIFIED:20230120T133650Z
UID:10541-1680933600-1681110000@riechaaparashar.com
SUMMARY:Money Magnet
DESCRIPTION:
URL:https://riechaaparashar.com/event/money-magnet-4/
CATEGORIES:Calender
END:VEVENT
BEGIN:VEVENT
DTSTART;TZID=Asia/Kolkata:20230406T210000
DTEND;TZID=Asia/Kolkata:20230406T213000
DTSTAMP:20260420T072013
CREATED:20230104T162724Z
LAST-MODIFIED:20230104T162724Z
UID:10026-1680814800-1680816600@riechaaparashar.com
SUMMARY:Purnima Meditation - Chaitra Purnima
DESCRIPTION:
URL:https://riechaaparashar.com/event/purnima-meditation-chaitra-purnima/
CATEGORIES:Calender
END:VEVENT
BEGIN:VEVENT
DTSTART;TZID=UTC:20230401T200000
DTEND;TZID=UTC:20230403T210000
DTSTAMP:20260420T072013
CREATED:20230120T133553Z
LAST-MODIFIED:20230120T133553Z
UID:10539-1680379200-1680555600@riechaaparashar.com
SUMMARY:Heal Your Anger Meditation
DESCRIPTION:
URL:https://riechaaparashar.com/event/heal-your-anger-meditation/
CATEGORIES:Calender
END:VEVENT
BEGIN:VEVENT
DTSTART;TZID=Asia/Kolkata:20230325T060000
DTEND;TZID=Asia/Kolkata:20230327T070000
DTSTAMP:20260420T072013
CREATED:20230120T133248Z
LAST-MODIFIED:20230120T133248Z
UID:10535-1679724000-1679900400@riechaaparashar.com
SUMMARY:Women's Special
DESCRIPTION:
URL:https://riechaaparashar.com/event/womens-special-2/
CATEGORIES:Calender
END:VEVENT
BEGIN:VEVENT
DTSTART;TZID=UTC:20230323T220000
DTEND;TZID=UTC:20230324T230000
DTSTAMP:20260420T072013
CREATED:20230120T133146Z
LAST-MODIFIED:20230120T133146Z
UID:10533-1679608800-1679698800@riechaaparashar.com
SUMMARY:Yoga Nidra
DESCRIPTION:
URL:https://riechaaparashar.com/event/yoga-nidra-3/
CATEGORIES:Calender
END:VEVENT
BEGIN:VEVENT
DTSTART;VALUE=DATE:20230322
DTEND;VALUE=DATE:20230401
DTSTAMP:20260420T072013
CREATED:20230120T133443Z
LAST-MODIFIED:20230120T133443Z
UID:10537-1679443200-1680307199@riechaaparashar.com
SUMMARY:Chaitra Navratri
DESCRIPTION:
URL:https://riechaaparashar.com/event/chaitra-navratri/
CATEGORIES:Calender
END:VEVENT
END:VCALENDAR