BEGIN:VCALENDAR
VERSION:2.0
PRODID:-//Riechaa Parashar - ECPv6.15.20//NONSGML v1.0//EN
CALSCALE:GREGORIAN
METHOD:PUBLISH
X-WR-CALNAME:Riechaa Parashar
X-ORIGINAL-URL:https://riechaaparashar.com
X-WR-CALDESC:Events for Riechaa Parashar
REFRESH-INTERVAL;VALUE=DURATION:PT1H
X-Robots-Tag:noindex
X-PUBLISHED-TTL:PT1H
BEGIN:VTIMEZONE
TZID:Asia/Kolkata
BEGIN:STANDARD
TZOFFSETFROM:+0530
TZOFFSETTO:+0530
TZNAME:IST
DTSTART:20220101T000000
END:STANDARD
END:VTIMEZONE
BEGIN:VTIMEZONE
TZID:UTC
BEGIN:STANDARD
TZOFFSETFROM:+0000
TZOFFSETTO:+0000
TZNAME:UTC
DTSTART:20220101T000000
END:STANDARD
END:VTIMEZONE
BEGIN:VEVENT
DTSTART;TZID=Asia/Kolkata:20231111T060000
DTEND;TZID=Asia/Kolkata:20231113T070000
DTSTAMP:20260420T002005
CREATED:20230129T153408Z
LAST-MODIFIED:20230129T153408Z
UID:11023-1699682400-1699858800@riechaaparashar.com
SUMMARY:Money Magnet
DESCRIPTION:
URL:https://riechaaparashar.com/event/money-magnet-11/
CATEGORIES:Calender
END:VEVENT
BEGIN:VEVENT
DTSTART;TZID=Asia/Kolkata:20231104T200000
DTEND;TZID=Asia/Kolkata:20231106T210000
DTSTAMP:20260420T002005
CREATED:20230129T153329Z
LAST-MODIFIED:20230129T153329Z
UID:11021-1699128000-1699304400@riechaaparashar.com
SUMMARY:Heal Your Anger Meditation
DESCRIPTION:
URL:https://riechaaparashar.com/event/heal-your-anger-meditation-6/
CATEGORIES:Calender
END:VEVENT
BEGIN:VEVENT
DTSTART;TZID=Asia/Kolkata:20231028T210000
DTEND;TZID=Asia/Kolkata:20231028T213000
DTSTAMP:20260420T002005
CREATED:20230104T163313Z
LAST-MODIFIED:20230104T163313Z
UID:10039-1698526800-1698528600@riechaaparashar.com
SUMMARY:Purnima Meditation - Ashvina Purnima
DESCRIPTION:
URL:https://riechaaparashar.com/event/purnima-meditation-ashvina-purnima-2/
CATEGORIES:Calender
END:VEVENT
BEGIN:VEVENT
DTSTART;TZID=Asia/Kolkata:20231028T060000
DTEND;TZID=Asia/Kolkata:20231030T070000
DTSTAMP:20260420T002005
CREATED:20230129T153235Z
LAST-MODIFIED:20230129T153235Z
UID:11019-1698472800-1698649200@riechaaparashar.com
SUMMARY:Women's Special
DESCRIPTION:
URL:https://riechaaparashar.com/event/womens-special-8/
CATEGORIES:Calender
END:VEVENT
BEGIN:VEVENT
DTSTART;TZID=Asia/Kolkata:20231026T220000
DTEND;TZID=Asia/Kolkata:20231027T230000
DTSTAMP:20260420T002005
CREATED:20230129T153146Z
LAST-MODIFIED:20230129T153146Z
UID:11017-1698357600-1698447600@riechaaparashar.com
SUMMARY:Yoga Nidra
DESCRIPTION:
URL:https://riechaaparashar.com/event/yoga-nidra-10/
CATEGORIES:Calender
END:VEVENT
BEGIN:VEVENT
DTSTART;TZID=Asia/Kolkata:20231021T060000
DTEND;TZID=Asia/Kolkata:20231023T070000
DTSTAMP:20260420T002005
CREATED:20230129T153058Z
LAST-MODIFIED:20230129T153058Z
UID:11015-1697868000-1698044400@riechaaparashar.com
SUMMARY:Heal Your Heart Meditation
DESCRIPTION:
URL:https://riechaaparashar.com/event/heal-your-heart-meditation-2/
CATEGORIES:Calender
END:VEVENT
BEGIN:VEVENT
DTSTART;TZID=Asia/Kolkata:20231014T060000
DTEND;TZID=Asia/Kolkata:20231016T070000
DTSTAMP:20260420T002005
CREATED:20230129T153013Z
LAST-MODIFIED:20230129T153013Z
UID:11013-1697263200-1697439600@riechaaparashar.com
SUMMARY:Money Magnet
DESCRIPTION:
URL:https://riechaaparashar.com/event/money-magnet-10/
CATEGORIES:Calender
END:VEVENT
BEGIN:VEVENT
DTSTART;TZID=Asia/Kolkata:20231012T210000
DTEND;TZID=Asia/Kolkata:20231012T213000
DTSTAMP:20260420T002005
CREATED:20230106T152212Z
LAST-MODIFIED:20230106T152212Z
UID:10070-1697144400-1697146200@riechaaparashar.com
SUMMARY:Masik Shivratri Celebrations
DESCRIPTION:
URL:https://riechaaparashar.com/event/masik-shivratri-celebrations-10/
CATEGORIES:Calender
END:VEVENT
BEGIN:VEVENT
DTSTART;TZID=Asia/Kolkata:20231007T200000
DTEND;TZID=Asia/Kolkata:20231009T210000
DTSTAMP:20260420T002005
CREATED:20230129T152907Z
LAST-MODIFIED:20230129T152907Z
UID:11011-1696708800-1696885200@riechaaparashar.com
SUMMARY:Heal Your Anger Meditation
DESCRIPTION:
URL:https://riechaaparashar.com/event/heal-your-anger-meditation-5/
CATEGORIES:Calender
END:VEVENT
BEGIN:VEVENT
DTSTART;TZID=Asia/Kolkata:20230929T210000
DTEND;TZID=Asia/Kolkata:20230929T213000
DTSTAMP:20260420T002005
CREATED:20230104T163101Z
LAST-MODIFIED:20230104T163101Z
UID:10034-1696021200-1696023000@riechaaparashar.com
SUMMARY:Purnima Meditation - Bhadrapada Purnima
DESCRIPTION:
URL:https://riechaaparashar.com/event/purnima-meditation-bhadrapada-purnima/
CATEGORIES:Calender
END:VEVENT
BEGIN:VEVENT
DTSTART;TZID=Asia/Kolkata:20230928T220000
DTEND;TZID=Asia/Kolkata:20230929T230000
DTSTAMP:20260420T002005
CREATED:20230129T152732Z
LAST-MODIFIED:20230129T152732Z
UID:11009-1695938400-1696028400@riechaaparashar.com
SUMMARY:Yoga Nidra
DESCRIPTION:
URL:https://riechaaparashar.com/event/yoga-nidra-9/
CATEGORIES:Calender
END:VEVENT
BEGIN:VEVENT
DTSTART;TZID=Asia/Kolkata:20230928T210000
DTEND;TZID=Asia/Kolkata:20230928T213000
DTSTAMP:20260420T002005
CREATED:20230106T150515Z
LAST-MODIFIED:20230106T150515Z
UID:10044-1695934800-1695936600@riechaaparashar.com
SUMMARY:Ganesh Chaturthi Celebrations
DESCRIPTION:
URL:https://riechaaparashar.com/event/ganesh-chaturthi-celebrations/
CATEGORIES:Calender
END:VEVENT
BEGIN:VEVENT
DTSTART;TZID=Asia/Kolkata:20230923T060000
DTEND;TZID=Asia/Kolkata:20230924T070000
DTSTAMP:20260420T002005
CREATED:20230129T152547Z
LAST-MODIFIED:20230129T152547Z
UID:11007-1695448800-1695538800@riechaaparashar.com
SUMMARY:Women's Special
DESCRIPTION:
URL:https://riechaaparashar.com/event/womens-special-7/
CATEGORIES:Calender
END:VEVENT
BEGIN:VEVENT
DTSTART;TZID=Asia/Kolkata:20230916T060000
DTEND;TZID=Asia/Kolkata:20230918T070000
DTSTAMP:20260420T002005
CREATED:20230129T152504Z
LAST-MODIFIED:20230129T152504Z
UID:11005-1694844000-1695020400@riechaaparashar.com
SUMMARY:Heal Your Heart Meditation Course
DESCRIPTION:
URL:https://riechaaparashar.com/event/heal-your-heart-meditation-course-6/
CATEGORIES:Calender
END:VEVENT
BEGIN:VEVENT
DTSTART;TZID=Asia/Kolkata:20230913T210000
DTEND;TZID=Asia/Kolkata:20230913T213000
DTSTAMP:20260420T002005
CREATED:20230106T152046Z
LAST-MODIFIED:20230106T152046Z
UID:10068-1694638800-1694640600@riechaaparashar.com
SUMMARY:Masik Shivratri Celebrations
DESCRIPTION:
URL:https://riechaaparashar.com/event/masik-shivratri-celebrations-9/
CATEGORIES:Calender
END:VEVENT
BEGIN:VEVENT
DTSTART;TZID=Asia/Kolkata:20230909T060000
DTEND;TZID=Asia/Kolkata:20230911T070000
DTSTAMP:20260420T002005
CREATED:20230129T152415Z
LAST-MODIFIED:20230129T152415Z
UID:11003-1694239200-1694415600@riechaaparashar.com
SUMMARY:Money Magnet
DESCRIPTION:
URL:https://riechaaparashar.com/event/money-magnet-9/
CATEGORIES:Calender
END:VEVENT
BEGIN:VEVENT
DTSTART;TZID=Asia/Kolkata:20230902T200000
DTEND;TZID=Asia/Kolkata:20230904T210000
DTSTAMP:20260420T002005
CREATED:20230129T152302Z
LAST-MODIFIED:20230129T152318Z
UID:11001-1693684800-1693861200@riechaaparashar.com
SUMMARY:Heal Your Anger Meditation
DESCRIPTION:
URL:https://riechaaparashar.com/event/heal-your-anger-meditation-4/
CATEGORIES:Calender
END:VEVENT
BEGIN:VEVENT
DTSTART;TZID=Asia/Kolkata:20230830T220000
DTEND;TZID=Asia/Kolkata:20230831T230000
DTSTAMP:20260420T002005
CREATED:20230129T152113Z
LAST-MODIFIED:20230129T152217Z
UID:10999-1693432800-1693522800@riechaaparashar.com
SUMMARY:Yoga Nidra
DESCRIPTION:
URL:https://riechaaparashar.com/event/yoga-nidra-8/
CATEGORIES:Calender
END:VEVENT
BEGIN:VEVENT
DTSTART;TZID=Asia/Kolkata:20230826T060000
DTEND;TZID=Asia/Kolkata:20230828T070000
DTSTAMP:20260420T002005
CREATED:20230129T152011Z
LAST-MODIFIED:20230129T152011Z
UID:10997-1693029600-1693206000@riechaaparashar.com
SUMMARY:Women's Special
DESCRIPTION:
URL:https://riechaaparashar.com/event/womens-special-6/
CATEGORIES:Calender
END:VEVENT
BEGIN:VEVENT
DTSTART;TZID=Asia/Kolkata:20230819T060000
DTEND;TZID=Asia/Kolkata:20230821T070000
DTSTAMP:20260420T002005
CREATED:20230129T151834Z
LAST-MODIFIED:20230129T151834Z
UID:10995-1692424800-1692601200@riechaaparashar.com
SUMMARY:Heal Your Heart Mediation
DESCRIPTION:
URL:https://riechaaparashar.com/event/heal-your-heart-mediation/
CATEGORIES:Calender
END:VEVENT
BEGIN:VEVENT
DTSTART;TZID=Asia/Kolkata:20230814T210000
DTEND;TZID=Asia/Kolkata:20230814T213000
DTSTAMP:20260420T002005
CREATED:20230106T151943Z
LAST-MODIFIED:20230106T151943Z
UID:10066-1692046800-1692048600@riechaaparashar.com
SUMMARY:Masik Shivratri Celebrations
DESCRIPTION:
URL:https://riechaaparashar.com/event/masik-shivratri-celebrations-8/
CATEGORIES:Calender
END:VEVENT
BEGIN:VEVENT
DTSTART;TZID=Asia/Kolkata:20230812T060000
DTEND;TZID=Asia/Kolkata:20230814T070000
DTSTAMP:20260420T002005
CREATED:20230129T151734Z
LAST-MODIFIED:20230129T151734Z
UID:10993-1691820000-1691996400@riechaaparashar.com
SUMMARY:Money Magnet
DESCRIPTION:
URL:https://riechaaparashar.com/event/money-magnet-8/
CATEGORIES:Calender
END:VEVENT
BEGIN:VEVENT
DTSTART;TZID=Asia/Kolkata:20230805T200000
DTEND;TZID=Asia/Kolkata:20230807T210000
DTSTAMP:20260420T002005
CREATED:20230129T151623Z
LAST-MODIFIED:20230129T151623Z
UID:10991-1691265600-1691442000@riechaaparashar.com
SUMMARY:Heal Your Anger Meditation
DESCRIPTION:
URL:https://riechaaparashar.com/event/heal-your-anger-meditation-3/
CATEGORIES:Calender
END:VEVENT
BEGIN:VEVENT
DTSTART;TZID=Asia/Kolkata:20230801T210000
DTEND;TZID=Asia/Kolkata:20230801T213000
DTSTAMP:20260420T002005
CREATED:20230104T162956Z
LAST-MODIFIED:20230104T162956Z
UID:10032-1690923600-1690925400@riechaaparashar.com
SUMMARY:Purnima Meditation - Shravana Purnima
DESCRIPTION:
URL:https://riechaaparashar.com/event/purnima-meditation-shravana-purnima/
CATEGORIES:Calender
END:VEVENT
BEGIN:VEVENT
DTSTART;TZID=UTC:20230727T220000
DTEND;TZID=UTC:20230728T230000
DTSTAMP:20260420T002005
CREATED:20230129T151514Z
LAST-MODIFIED:20230131T160553Z
UID:10989-1690495200-1690585200@riechaaparashar.com
SUMMARY:Yoga Nidra
DESCRIPTION:
URL:https://riechaaparashar.com/event/yoga-nidra-7/
CATEGORIES:Calender
END:VEVENT
BEGIN:VEVENT
DTSTART;TZID=Asia/Kolkata:20230722T060000
DTEND;TZID=Asia/Kolkata:20230724T070000
DTSTAMP:20260420T002005
CREATED:20230129T151426Z
LAST-MODIFIED:20230129T151426Z
UID:10987-1690005600-1690182000@riechaaparashar.com
SUMMARY:Women's Special
DESCRIPTION:
URL:https://riechaaparashar.com/event/womens-special-5/
CATEGORIES:Calender
END:VEVENT
BEGIN:VEVENT
DTSTART;TZID=Asia/Kolkata:20230715T210000
DTEND;TZID=Asia/Kolkata:20230715T213000
DTSTAMP:20260420T002005
CREATED:20230106T151842Z
LAST-MODIFIED:20230106T151842Z
UID:10064-1689454800-1689456600@riechaaparashar.com
SUMMARY:Masik Shivratri Celebrations
DESCRIPTION:
URL:https://riechaaparashar.com/event/masik-shivratri-celebrations-7/
CATEGORIES:Calender
END:VEVENT
BEGIN:VEVENT
DTSTART;TZID=Asia/Kolkata:20230715T060000
DTEND;TZID=Asia/Kolkata:20230717T070000
DTSTAMP:20260420T002005
CREATED:20230129T151326Z
LAST-MODIFIED:20230129T151326Z
UID:10985-1689400800-1689577200@riechaaparashar.com
SUMMARY:Heal Your Heart Meditation Course
DESCRIPTION:
URL:https://riechaaparashar.com/event/heal-your-heart-meditation-course-5/
CATEGORIES:Calender
END:VEVENT
BEGIN:VEVENT
DTSTART;TZID=Asia/Kolkata:20230708T060000
DTEND;TZID=Asia/Kolkata:20230710T070000
DTSTAMP:20260420T002005
CREATED:20230129T151220Z
LAST-MODIFIED:20230129T151220Z
UID:10983-1688796000-1688972400@riechaaparashar.com
SUMMARY:Money Magnet
DESCRIPTION:
URL:https://riechaaparashar.com/event/money-magnet-7/
CATEGORIES:Calender
END:VEVENT
BEGIN:VEVENT
DTSTART;TZID=Asia/Kolkata:20230703T210000
DTEND;TZID=Asia/Kolkata:20230703T213000
DTSTAMP:20260420T002005
CREATED:20230104T161838Z
LAST-MODIFIED:20230104T162321Z
UID:10014-1688418000-1688419800@riechaaparashar.com
SUMMARY:Purnima Meditation - Ashadha Purnima
DESCRIPTION:
URL:https://riechaaparashar.com/event/purnima-meditation-magha-purnima/
CATEGORIES:Calender
END:VEVENT
END:VCALENDAR